BEGIN:VCALENDAR
VERSION:2.0
PRODID:-//CUNY Graduate School of Public Health &amp; Health Policy - ECPv4.9.9//NONSGML v1.0//EN
CALSCALE:GREGORIAN
METHOD:PUBLISH
X-ORIGINAL-URL:https://sph.cuny.edu
X-WR-CALDESC:Events for CUNY Graduate School of Public Health &amp; Health Policy
BEGIN:VTIMEZONE
TZID:America/New_York
BEGIN:DAYLIGHT
TZOFFSETFROM:-0500
TZOFFSETTO:-0400
TZNAME:EDT
DTSTART:20210314T070000
END:DAYLIGHT
BEGIN:STANDARD
TZOFFSETFROM:-0400
TZOFFSETTO:-0500
TZNAME:EST
DTSTART:20211107T060000
END:STANDARD
END:VTIMEZONE
BEGIN:VEVENT
DTSTART;TZID=America/New_York:20210506T200000
DTEND;TZID=America/New_York:20210506T210000
DTSTAMP:20260420T224043
CREATED:20210216T202730Z
LAST-MODIFIED:20210216T202730Z
UID:73846-1620331200-1620334800@sph.cuny.edu
SUMMARY:Essential Workers Support Group
DESCRIPTION:Essential workers are employees who have been tasked with working outside of the home during the ongoing COVID-19 pandemic. Essential workers are providing invaluable services to society as we navigate the unprecedented challenges of the pandemic. It is with great gratitude and respect that we offer this open weekly virtual support group for essential workers. The goal of the group is to establish connections through sharing experiences and to engage in mutual emotional support. Resource sharing will also be encouraged. If you would like more information please email Student Wellness Counselor Sherry Adams at sherry.adams@sph.cuny.edu. \nThe Essential Workers Support Group will meet virtually on Thursdays at 8pm\, from February 18th through May 13th. \n
URL:https://sph.cuny.edu/event/essential-workers-support-group-050621/
LOCATION:Virtual (Online)
CATEGORIES:Students,Wellness
END:VEVENT
END:VCALENDAR