BEGIN:VCALENDAR
VERSION:2.0
PRODID:-//CUNY Graduate School of Public Health &amp; Health Policy - ECPv4.9.9//NONSGML v1.0//EN
CALSCALE:GREGORIAN
METHOD:PUBLISH
X-ORIGINAL-URL:https://sph.cuny.edu
X-WR-CALDESC:Events for CUNY Graduate School of Public Health &amp; Health Policy
BEGIN:VTIMEZONE
TZID:America/New_York
BEGIN:DAYLIGHT
TZOFFSETFROM:-0500
TZOFFSETTO:-0400
TZNAME:EDT
DTSTART:20260308T070000
END:DAYLIGHT
BEGIN:STANDARD
TZOFFSETFROM:-0400
TZOFFSETTO:-0500
TZNAME:EST
DTSTART:20261101T060000
END:STANDARD
END:VTIMEZONE
BEGIN:VEVENT
DTSTART;TZID=America/New_York:20260304T120000
DTEND;TZID=America/New_York:20260304T130000
DTSTAMP:20260421T200040
CREATED:20260113T140116Z
LAST-MODIFIED:20260114T205219Z
UID:159526-1772625600-1772629200@sph.cuny.edu
SUMMARY:Employer Discovery Series: Claryx
DESCRIPTION:Presented by the Office of Career Services. Claryx is building a next-generation biosurveillance platform to stop infections before they start\, starting with hospitals. \nBy combining environmental sampling with advanced molecular and sequencing methods\, we’ll detect pathogen reservoirs and antimicrobial resistance in near real time – enabling proactive\, targeted interventions that prevent hospital-acquired infections\, protect patients and improve outcomes. \nRegister for this info session to learn more about employment opportunities. Open to current CUNY SPH students and recent graduates (graduated within the last five years). Email CareerServices@sph.cuny.edu for assistance with registering for this event on Handshake. \n
URL:https://sph.cuny.edu/event/employer-discovery-series-claryx/
LOCATION:Handshake
CATEGORIES:Career
ATTACH;FMTTYPE=image/png:https://sph.cuny.edu/wp-content/uploads/2026/01/OEPR-Spring-26.png
ORGANIZER;CN="Career%20Services":MAILTO:careerservices@sph.cuny.edu
END:VEVENT
END:VCALENDAR