BEGIN:VCALENDAR
VERSION:2.0
PRODID:-//CUNY Graduate School of Public Health &amp; Health Policy - ECPv4.9.9//NONSGML v1.0//EN
CALSCALE:GREGORIAN
METHOD:PUBLISH
X-ORIGINAL-URL:https://sph.cuny.edu
X-WR-CALDESC:Events for CUNY Graduate School of Public Health &amp; Health Policy
BEGIN:VTIMEZONE
TZID:America/New_York
BEGIN:DAYLIGHT
TZOFFSETFROM:-0500
TZOFFSETTO:-0400
TZNAME:EDT
DTSTART:20240310T070000
END:DAYLIGHT
BEGIN:STANDARD
TZOFFSETFROM:-0400
TZOFFSETTO:-0500
TZNAME:EST
DTSTART:20241103T060000
END:STANDARD
END:VTIMEZONE
BEGIN:VEVENT
DTSTART;TZID=America/New_York:20240417T100000
DTEND;TZID=America/New_York:20240417T120000
DTSTAMP:20260421T113702
CREATED:20240327T183642Z
LAST-MODIFIED:20240327T183642Z
UID:137873-1713348000-1713355200@sph.cuny.edu
SUMMARY:El síndrome de Ulises: brindando atención a inmigrantes que experimentan un duelo migratorio extremo
DESCRIPTION:Según los expertos\, existen siete formas de duelo migratorio que afectan la salud mental de los inmigrantes de manera relevante y tangible. Los niveles de estrés que experimentan los inmigrantes son tan intensos que pueden superar la capacidad humana de adaptación. Aunque los inmigrantes que viven en situaciones extremas se asocian comúnmente con algunos trastornos mentales\, las investigaciones han encontrado que muchos en realidad experimentan el Síndrome del Inmigrante con Estrés Crónico y Múltiple\, también conocido como Síndrome de Ulises\, en referencia al héroe griego que sufrió innumerables adversidades y peligros en aterriza lejos de sus seres queridos. \nEn la primavera de 2024\, el Centro de Acción de Proveedores Inmigrantes (IMPACT) del CIRGH organizará dos oportunidades de educación continua\, una en inglés y otra en español\, sobre el síndrome de Ulises con el Dr. Joseba Achotegui dirigiendo la sesión. El Dr. Achotegui\, quien describió por primera vez el síndrome de Ulises en 2002\, revisará las siete formas de duelo migratorio\, cómo puede manifestarse en tres fases distintas y cómo utilizar herramientas de detección para evaluar a los miembros de la comunidad en busca de duelo migratorio extremo. \nLos asistentes a la capacitación pueden obtener hasta dos créditos de educación continua gratuitos. ¡Regístrese hoy! \nENGLISH:\nAccording to experts\, there are seven forms of migratory mourning affecting the mental health of immigrants in relevant and tangible ways. The stress levels experienced by immigrants are so intense that they may surpass the human capacity for adaptation. Although immigrants living in extreme situations are commonly associated with some mental disorders\, research has found that many actually experience the Immigrant Syndrome with Chronic and Multiple Stress\, also known as the Ulysses Syndrome\, in reference to the Greek hero who suffered countless adversities and dangers in lands far from his loved ones. \nIn Spring 2024\, CIRGH’s Immigrant Provider Action (IMPACT) Center will host two continuing education opportunities\, one in English and one in Spanish\, on the Ulysses Syndrome with Dr. Joseba Achotegui leading the session. Dr. Achotegui\, who first described the Ulysses Syndrome in 2002\, will review the seven forms of migratory mourning\, how it can manifest across three distinct phases\, and how to use screening tools to assess community members for extreme migratory mourning. \nAttendees to the training may earn up to two free continuing education credits. Register today! \n  \n
URL:https://sph.cuny.edu/event/el-sindrome-de-ulises-espanol/
LOCATION:Virtual (Online)
CATEGORIES:Center/Institute
ATTACH;FMTTYPE=image/png:https://sph.cuny.edu/wp-content/uploads/2024/03/Ulysses-Syndrome.png
END:VEVENT
END:VCALENDAR