BEGIN:VCALENDAR
VERSION:2.0
PRODID:-//CUNY Graduate School of Public Health &amp; Health Policy - ECPv4.9.9//NONSGML v1.0//EN
CALSCALE:GREGORIAN
METHOD:PUBLISH
X-ORIGINAL-URL:https://sph.cuny.edu
X-WR-CALDESC:Events for CUNY Graduate School of Public Health &amp; Health Policy
BEGIN:VTIMEZONE
TZID:America/New_York
BEGIN:DAYLIGHT
TZOFFSETFROM:-0500
TZOFFSETTO:-0400
TZNAME:EDT
DTSTART:20220313T070000
END:DAYLIGHT
BEGIN:STANDARD
TZOFFSETFROM:-0400
TZOFFSETTO:-0500
TZNAME:EST
DTSTART:20221106T060000
END:STANDARD
END:VTIMEZONE
BEGIN:VEVENT
DTSTART;TZID=America/New_York:20220301T170000
DTEND;TZID=America/New_York:20220301T180000
DTSTAMP:20260421T081700
CREATED:20220207T154215Z
LAST-MODIFIED:20220215T211340Z
UID:112940-1646154000-1646157600@sph.cuny.edu
SUMMARY:Drop-in Counseling Hours
DESCRIPTION:Counseling and Wellness Services wants to make it easier for our busy CUNY SPH students to get the support they deserve. During our new Drop-in Counseling Hours\, students may join our confidential Zoom waiting room and be seen by a counselor ASAP. Counselors will be available to check in with you\, schedule a counseling intake appointment\, and offer referrals. \nDrop-in Counseling Hours are February 3 – April 14\, Tuesdays 5pm – 6pm and Thursdays 3pm – 4pm. \nIndividual counseling appointments can always be requested by contacting Student Wellness Counselor Sherry Adams: sherry.adams@sph.cuny.edu. \n
URL:https://sph.cuny.edu/event/drop-in-counseling-hours-7/
LOCATION:Virtual (Online)
CATEGORIES:Students,Wellness
END:VEVENT
END:VCALENDAR