BEGIN:VCALENDAR
VERSION:2.0
PRODID:-//CUNY Graduate School of Public Health &amp; Health Policy - ECPv4.9.9//NONSGML v1.0//EN
CALSCALE:GREGORIAN
METHOD:PUBLISH
X-ORIGINAL-URL:https://sph.cuny.edu
X-WR-CALDESC:Events for CUNY Graduate School of Public Health &amp; Health Policy
BEGIN:VTIMEZONE
TZID:America/New_York
BEGIN:DAYLIGHT
TZOFFSETFROM:-0500
TZOFFSETTO:-0400
TZNAME:EDT
DTSTART:20220313T070000
END:DAYLIGHT
BEGIN:STANDARD
TZOFFSETFROM:-0400
TZOFFSETTO:-0500
TZNAME:EST
DTSTART:20221106T060000
END:STANDARD
END:VTIMEZONE
BEGIN:VEVENT
DTSTART;TZID=America/New_York:20220512T150000
DTEND;TZID=America/New_York:20220512T170000
DTSTAMP:20260420T190230
CREATED:20220215T175406Z
LAST-MODIFIED:20220215T175618Z
UID:113766-1652367600-1652374800@sph.cuny.edu
SUMMARY:Dissertation Defense: David Goldfarb
DESCRIPTION:Dissertation Defense by David Goldfarb\, candidate for PhD in Environmental and Planetary Health Science \nTitle: Investigation of the association of exposures to fire-related hazards with the pulmonary function of firefighters \nCommittee members:\nIlias Kavouras (chair)\nGlen Johnson\nDavid Prezant \nThis dissertation defense will be held via Zoom. If you would like to attend\, please email Toya Cox at toya.cox@sph.cuny.edu for the Zoom info. \n
URL:https://sph.cuny.edu/event/dissertation-defense-david-goldfarb/
LOCATION:Virtual (Online)
CATEGORIES:Dissertation Defense
END:VEVENT
END:VCALENDAR