BEGIN:VCALENDAR
VERSION:2.0
PRODID:-//CUNY Graduate School of Public Health &amp; Health Policy - ECPv4.9.9//NONSGML v1.0//EN
CALSCALE:GREGORIAN
METHOD:PUBLISH
X-ORIGINAL-URL:https://sph.cuny.edu
X-WR-CALDESC:Events for CUNY Graduate School of Public Health &amp; Health Policy
BEGIN:VTIMEZONE
TZID:America/New_York
BEGIN:DAYLIGHT
TZOFFSETFROM:-0500
TZOFFSETTO:-0400
TZNAME:EDT
DTSTART:20250309T070000
END:DAYLIGHT
BEGIN:STANDARD
TZOFFSETFROM:-0400
TZOFFSETTO:-0500
TZNAME:EST
DTSTART:20251102T060000
END:STANDARD
END:VTIMEZONE
BEGIN:VEVENT
DTSTART;TZID=America/New_York:20251124T090000
DTEND;TZID=America/New_York:20251124T110000
DTSTAMP:20260421T000216
CREATED:20250909T200104Z
LAST-MODIFIED:20251112T143509Z
UID:156562-1763974800-1763982000@sph.cuny.edu
SUMMARY:Dissertation Defense by Ronald Sanchez
DESCRIPTION:Please join us for the dissertation defense of Ronald Sanchez (PhD in Community Health and Health Policy). \nThe dissertation defense will be held via Zoom on Monday\, November 24. It will be open to the public from 9am to 11am. Kindly RSVP to receive the Zoom details for this event. \nQuestions can be sent to Alicia Smith (Alicia.Smith@sph.cuny.edu). \nDissertation Title: Development and Applications of a Health Equity Summary Score Using the Medical Expenditure Panel Survey \nCommittee: \n\nDr. Sean Haley (Chair)\nDr. Mustafa Hussein\nDr. J. Robin Moon\n\n
URL:https://sph.cuny.edu/event/dissertation-defense-by-ronald-sanchez/
LOCATION:Virtual (Online)
CATEGORIES:Dissertation Defense,Faculty and Staff,Lecture,Students,Webinar
ATTACH;FMTTYPE=image/jpeg:https://sph.cuny.edu/wp-content/uploads/2025/09/Ronald-Sanchez-1536x1536-1.jpg
END:VEVENT
END:VCALENDAR