BEGIN:VCALENDAR
VERSION:2.0
PRODID:-//CUNY Graduate School of Public Health &amp; Health Policy - ECPv4.9.9//NONSGML v1.0//EN
CALSCALE:GREGORIAN
METHOD:PUBLISH
X-ORIGINAL-URL:https://sph.cuny.edu
X-WR-CALDESC:Events for CUNY Graduate School of Public Health &amp; Health Policy
BEGIN:VTIMEZONE
TZID:America/New_York
BEGIN:DAYLIGHT
TZOFFSETFROM:-0500
TZOFFSETTO:-0400
TZNAME:EDT
DTSTART:20250309T070000
END:DAYLIGHT
BEGIN:STANDARD
TZOFFSETFROM:-0400
TZOFFSETTO:-0500
TZNAME:EST
DTSTART:20251102T060000
END:STANDARD
END:VTIMEZONE
BEGIN:VEVENT
DTSTART;TZID=America/New_York:20251215T100000
DTEND;TZID=America/New_York:20251215T110000
DTSTAMP:20260421T180635
CREATED:20251126T160957Z
LAST-MODIFIED:20251205T173115Z
UID:158983-1765792800-1765796400@sph.cuny.edu
SUMMARY:Dissertation Defense by Fiona Fogarty
DESCRIPTION:Please join us for the dissertation defense of Fiona Fogarty\, PhD in Environmental and Planetary Health Sciences (EPHS). \nThe dissertation defense will be held via Zoom on Tuesday\, December 16. It will be open to the public from 10am to 11am. \nTitle: Meconium Metal Concentrations and Infant Temperament and Development \nCommittee: \nDr. Suzanne McDermott (chair)\nDr. Brian Pavilonis\nDr. Bo Cai (external member) University of South Carolina\, Arnold School of Public Health \nTo attend virtually\, kindly RSVP to receive the Zoom details for this event. \nQuestions can be sent to Minosky Pichardo (Minosky.Pichardo@sph.cuny.edu). \n  \n  \n  \n
URL:https://sph.cuny.edu/event/dissertation-defense-by-fiona-fogarty/
LOCATION:Virtual (Online)
CATEGORIES:Dissertation Defense
ATTACH;FMTTYPE=image/jpeg:https://sph.cuny.edu/wp-content/uploads/2025/11/Fiona-F.jpeg
END:VEVENT
END:VCALENDAR