BEGIN:VCALENDAR
VERSION:2.0
PRODID:-//CUNY Graduate School of Public Health &amp; Health Policy - ECPv4.9.9//NONSGML v1.0//EN
CALSCALE:GREGORIAN
METHOD:PUBLISH
X-ORIGINAL-URL:https://sph.cuny.edu
X-WR-CALDESC:Events for CUNY Graduate School of Public Health &amp; Health Policy
BEGIN:VTIMEZONE
TZID:America/New_York
BEGIN:DAYLIGHT
TZOFFSETFROM:-0500
TZOFFSETTO:-0400
TZNAME:EDT
DTSTART:20250309T070000
END:DAYLIGHT
BEGIN:STANDARD
TZOFFSETFROM:-0400
TZOFFSETTO:-0500
TZNAME:EST
DTSTART:20251102T060000
END:STANDARD
END:VTIMEZONE
BEGIN:VEVENT
DTSTART;TZID=America/New_York:20250501T120000
DTEND;TZID=America/New_York:20250501T140000
DTSTAMP:20260420T214015
CREATED:20250325T154105Z
LAST-MODIFIED:20250422T143925Z
UID:153194-1746100800-1746108000@sph.cuny.edu
SUMMARY:Dissertation Defense by Dima Masoud
DESCRIPTION:Please join us for the dissertation defense of Dima Masoud (PhD in Community Health and Health Policy). \nThe dissertation defense will be held in person and via Zoom on Thursday\, May 1. It will be open to the public from 12pm – 2pm. \nTo attend virtually\, email alicia.smith@sph.cuny.edu) or (toya.cox@sph.cuny.edu) to receive the Zoom info. \nTopic: The Ecology of Gender-based Violence for Syrian Refugee Women in Tripoli and Akkar \nCommittee Members: \n\nDr. Spring Cooper (chair)\nDr. Kathleen Cravero\nDr. Jasmin Lilian Diab (external member)\n\nPlease contact Alicia Smith (alicia.smith@sph.cuny.edu) or Toya Cox (toya.cox@sph.cuny.edu) with any questions. \n
URL:https://sph.cuny.edu/event/dissertation-defense-by-dima-masoud/
LOCATION:CUNY SPH\, Room 825
CATEGORIES:Dissertation Defense,Faculty and Staff,Students
END:VEVENT
END:VCALENDAR