BEGIN:VCALENDAR
VERSION:2.0
PRODID:-//CUNY Graduate School of Public Health &amp; Health Policy - ECPv4.9.9//NONSGML v1.0//EN
CALSCALE:GREGORIAN
METHOD:PUBLISH
X-ORIGINAL-URL:https://sph.cuny.edu
X-WR-CALDESC:Events for CUNY Graduate School of Public Health &amp; Health Policy
BEGIN:VTIMEZONE
TZID:America/New_York
BEGIN:DAYLIGHT
TZOFFSETFROM:-0500
TZOFFSETTO:-0400
TZNAME:EDT
DTSTART:20170312T070000
END:DAYLIGHT
BEGIN:STANDARD
TZOFFSETFROM:-0400
TZOFFSETTO:-0500
TZNAME:EST
DTSTART:20171105T060000
END:STANDARD
END:VTIMEZONE
BEGIN:VEVENT
DTSTART;TZID=America/New_York:20171206T153000
DTEND;TZID=America/New_York:20171206T173000
DTSTAMP:20260421T103641
CREATED:20190523T183332Z
LAST-MODIFIED:20190523T183332Z
UID:8444-1512574200-1512581400@sph.cuny.edu
SUMMARY:Dissertation Defense by Andrea Melnikas
DESCRIPTION:Whether\, When\, and How: FertilityIntentions and Age in the U.S. \n \nCandidate:Andrea J. Melnikas \nCommitteeChair: Diana Romero\, CUNY SPHSponsor: Mary Clare Lennon\, Graduate CenterMember: Barbara Katz Rothman\, Baruch College and Graduate CenterExternal Member: Wendy Chavkin\, Columbia University \n
URL:https://sph.cuny.edu/event/dissertation-defense-by-andrea-melnikas/
CATEGORIES:Lecture
END:VEVENT
END:VCALENDAR