BEGIN:VCALENDAR
VERSION:2.0
PRODID:-//CUNY Graduate School of Public Health &amp; Health Policy - ECPv4.9.9//NONSGML v1.0//EN
CALSCALE:GREGORIAN
METHOD:PUBLISH
X-ORIGINAL-URL:https://sph.cuny.edu
X-WR-CALDESC:Events for CUNY Graduate School of Public Health &amp; Health Policy
BEGIN:VTIMEZONE
TZID:America/New_York
BEGIN:DAYLIGHT
TZOFFSETFROM:-0500
TZOFFSETTO:-0400
TZNAME:EDT
DTSTART:20220313T070000
END:DAYLIGHT
BEGIN:STANDARD
TZOFFSETFROM:-0400
TZOFFSETTO:-0500
TZNAME:EST
DTSTART:20221106T060000
END:STANDARD
END:VTIMEZONE
BEGIN:VEVENT
DTSTART;TZID=America/New_York:20220110T090000
DTEND;TZID=America/New_York:20220110T110000
DTSTAMP:20260420T054846
CREATED:20211129T192510Z
LAST-MODIFIED:20211129T192510Z
UID:89161-1641805200-1641812400@sph.cuny.edu
SUMMARY:Dissertation Defense: Bae Chu
DESCRIPTION:Bae Chu\, DPH Candidate in Environmental and Occupational Health \n \nTitle: Radiation Isolation and the Impact of Care: Nursing Knowledge and Perception of Radiation Risks \nDissertation Committee:\nBrian Pavilonis (Chair)\nGhada Soliman\nChris Palmedo\nLawrence Dauer \nThis dissertation defense will be held via Zoom. If you would like to attend\, please email Toya.Cox@sph.cuny.edu for the Zoom info. \n
URL:https://sph.cuny.edu/event/dissertation-defense-bae-chu/
LOCATION:Virtual (Online)
CATEGORIES:Dissertation Defense
END:VEVENT
END:VCALENDAR