BEGIN:VCALENDAR
VERSION:2.0
PRODID:-//CUNY Graduate School of Public Health &amp; Health Policy - ECPv4.9.9//NONSGML v1.0//EN
CALSCALE:GREGORIAN
METHOD:PUBLISH
X-ORIGINAL-URL:https://sph.cuny.edu
X-WR-CALDESC:Events for CUNY Graduate School of Public Health &amp; Health Policy
BEGIN:VTIMEZONE
TZID:America/New_York
BEGIN:DAYLIGHT
TZOFFSETFROM:-0500
TZOFFSETTO:-0400
TZNAME:EDT
DTSTART:20250309T070000
END:DAYLIGHT
BEGIN:STANDARD
TZOFFSETFROM:-0400
TZOFFSETTO:-0500
TZNAME:EST
DTSTART:20251102T060000
END:STANDARD
END:VTIMEZONE
BEGIN:VEVENT
DTSTART;TZID=America/New_York:20250505T123000
DTEND;TZID=America/New_York:20250505T143000
DTSTAMP:20260426T035028
CREATED:20250411T162223Z
LAST-MODIFIED:20250422T143515Z
UID:153447-1746448200-1746455400@sph.cuny.edu
SUMMARY:Dissertation Defense: Alexa D'Angelo
DESCRIPTION:Please join us for the dissertation defense of Alexa D’Angelo (PhD in Community Health and Health Policy). \nTitle: How do health insurer practices affect health equity for gay and bisexual men and transmasculine individuals? A qualitative and health policy assessment \nThe dissertation defense will be held in person and via Zoom on Monday\, May 5. It will be open to the public from 12:30pm – 2:30pm. \nTo attend virtually\, email alicia.smith@sph.cuny.edu) or (toya.cox@sph.cuny.edu) to receive the Zoom info. \nIn person location: CUNY SPH\, 55 W 125th St\, Room 825\, New York \nCommittee Members: \n\nDr. Christian Grov (chair)\nDr. Emma Tsui\nDr. Naomi Zewde (external member)\n\nPlease contact Alicia Smith (alicia.smith@sph.cuny.edu) or Toya Cox (toya.cox@sph.cuny.edu) with any questions. \n
URL:https://sph.cuny.edu/event/dissertation-defense-alexa-dangelo/
LOCATION:CUNY SPH\, Room 825
CATEGORIES:Dissertation Defense,Faculty and Staff,Students
END:VEVENT
END:VCALENDAR