BEGIN:VCALENDAR
VERSION:2.0
PRODID:-//CUNY Graduate School of Public Health &amp; Health Policy - ECPv4.9.9//NONSGML v1.0//EN
CALSCALE:GREGORIAN
METHOD:PUBLISH
X-ORIGINAL-URL:https://sph.cuny.edu
X-WR-CALDESC:Events for CUNY Graduate School of Public Health &amp; Health Policy
BEGIN:VTIMEZONE
TZID:America/New_York
BEGIN:DAYLIGHT
TZOFFSETFROM:-0500
TZOFFSETTO:-0400
TZNAME:EDT
DTSTART:20230312T070000
END:DAYLIGHT
BEGIN:STANDARD
TZOFFSETFROM:-0400
TZOFFSETTO:-0500
TZNAME:EST
DTSTART:20231105T060000
END:STANDARD
END:VTIMEZONE
BEGIN:VEVENT
DTSTART;TZID=America/New_York:20230720T120000
DTEND;TZID=America/New_York:20230720T140000
DTSTAMP:20260421T230944
CREATED:20230626T160307Z
LAST-MODIFIED:20230627T232748Z
UID:129867-1689854400-1689861600@sph.cuny.edu
SUMMARY:CUNY Public Health Innovation Accelerator Showcase
DESCRIPTION:The Showcase is an opportunity for health equity centered startups to present their solution and share their mission to potential partners\, investors\, customers\, and stakeholders from across sectors. For the fourth consecutive summer\, The CUNY Public Health Innovation Accelerator is addressing health equity by supporting entrepreneurs in bringing their ideas to life and scaling for impact. The 8-week accelerator helps entrepreneurs transform early-stage prototypes into businesses with public health impact. \nRSVP Here \n
URL:https://sph.cuny.edu/event/cuny-public-health-innovation-accelerator-showcase/
LOCATION:Virtual (Online)
ATTACH;FMTTYPE=image/png:https://sph.cuny.edu/wp-content/uploads/2023/06/thumbnail_image001.png
END:VEVENT
END:VCALENDAR