BEGIN:VCALENDAR
VERSION:2.0
PRODID:-//CUNY Graduate School of Public Health &amp; Health Policy - ECPv4.9.9//NONSGML v1.0//EN
CALSCALE:GREGORIAN
METHOD:PUBLISH
X-ORIGINAL-URL:https://sph.cuny.edu
X-WR-CALDESC:Events for CUNY Graduate School of Public Health &amp; Health Policy
BEGIN:VTIMEZONE
TZID:America/New_York
BEGIN:DAYLIGHT
TZOFFSETFROM:-0500
TZOFFSETTO:-0400
TZNAME:EDT
DTSTART:20240310T070000
END:DAYLIGHT
BEGIN:STANDARD
TZOFFSETFROM:-0400
TZOFFSETTO:-0500
TZNAME:EST
DTSTART:20241103T060000
END:STANDARD
END:VTIMEZONE
BEGIN:VEVENT
DTSTART;TZID=America/New_York:20240311T180000
DTEND;TZID=America/New_York:20240311T190000
DTSTAMP:20260420T183033
CREATED:20240208T220032Z
LAST-MODIFIED:20240208T220032Z
UID:134937-1710180000-1710183600@sph.cuny.edu
SUMMARY:CUNY Grad Week Info session: MPH\, MS\, & PhD Programs
DESCRIPTION:Explore your future in public health at CUNY SPH! Join our admissions info session to learn about our Advanced Certificates\, MPH\, MS\, and PhD degrees. All of our MPH degrees are offered in both hybrid and online formats\, while our MS degrees are online only\, with the exception of the MS in Environmental and Occupational Health Sciences. Get details on admissions\, application deadlines\, and programs. \nQuestions? Connect with us at admissions@sph.cuny.edu. \n
URL:https://sph.cuny.edu/event/cuny-grad-week-info-session-mph-ms-phd-programs/
LOCATION:Virtual (Online)
CATEGORIES:Admissions
END:VEVENT
END:VCALENDAR