BEGIN:VCALENDAR
VERSION:2.0
PRODID:-//CUNY Graduate School of Public Health &amp; Health Policy - ECPv4.9.9//NONSGML v1.0//EN
CALSCALE:GREGORIAN
METHOD:PUBLISH
X-ORIGINAL-URL:https://sph.cuny.edu
X-WR-CALDESC:Events for CUNY Graduate School of Public Health &amp; Health Policy
BEGIN:VTIMEZONE
TZID:America/New_York
BEGIN:DAYLIGHT
TZOFFSETFROM:-0500
TZOFFSETTO:-0400
TZNAME:EDT
DTSTART:20210314T070000
END:DAYLIGHT
BEGIN:STANDARD
TZOFFSETFROM:-0400
TZOFFSETTO:-0500
TZNAME:EST
DTSTART:20211107T060000
END:STANDARD
END:VTIMEZONE
BEGIN:VEVENT
DTSTART;TZID=America/New_York:20210218T183000
DTEND;TZID=America/New_York:20210218T200000
DTSTAMP:20260421T193210
CREATED:20210126T191248Z
LAST-MODIFIED:20210129T181338Z
UID:73447-1613673000-1613678400@sph.cuny.edu
SUMMARY:The COVID-19 Vaccines: A Town Hall Conversation
DESCRIPTION:We invite you to join us for a COVID-19 vaccine town hall on Thursday\, February 19th\, from 6:30PM to 8:00PM. The event is free and open to the public. Our esteemed speakers are: \n• Dr. Oni Blackstock\, Founder and Executive Director\, Health Justice \n• Dr. Robert Fullilove\, Professor\, Sociomedical Sciences at the Columbia University Medical Center\, Associate Dean\, Community and Minority Affairs \n• Angela Soto\, NYC Department of Health and Mental Hygiene \nDuring our conversation\, we will discuss COVID-19 updates\, the science behind the vaccines\, the need for fairness in vaccine distribution\, and frequently asked questions. We will reserve ample time for question-and-answer sessions with our public health experts and hope to start an ongoing conversation about the COVID-19 vaccine. \nThis Town Hall Meeting is hosted by the Institute for Healthy Equity Research at the Icahn School of Medicine at Mount Sinai\, the CUNY School of Public Health and Harlem Health Initiative\, Mask Transit\, and Sigma Gamma Rho – NYC Alumnal- Kappa Sigma. \nLog-in information for the Zoom call will be sent to you in advance of the event. If you have questions\, email harlemhealth@sph.cuny.edu. \n \n  \n
URL:https://sph.cuny.edu/event/covid-19-vaccines-town-hall/
LOCATION:Virtual (Online)
CATEGORIES:Center/Institute
ATTACH;FMTTYPE=image/png:https://sph.cuny.edu/wp-content/uploads/2021/01/name-png-1.png
END:VEVENT
END:VCALENDAR