BEGIN:VCALENDAR
VERSION:2.0
PRODID:-//CUNY Graduate School of Public Health &amp; Health Policy - ECPv4.9.9//NONSGML v1.0//EN
CALSCALE:GREGORIAN
METHOD:PUBLISH
X-ORIGINAL-URL:https://sph.cuny.edu
X-WR-CALDESC:Events for CUNY Graduate School of Public Health &amp; Health Policy
BEGIN:VTIMEZONE
TZID:America/New_York
BEGIN:DAYLIGHT
TZOFFSETFROM:-0500
TZOFFSETTO:-0400
TZNAME:EDT
DTSTART:20200308T070000
END:DAYLIGHT
BEGIN:STANDARD
TZOFFSETFROM:-0400
TZOFFSETTO:-0500
TZNAME:EST
DTSTART:20201101T060000
END:STANDARD
END:VTIMEZONE
BEGIN:VEVENT
DTSTART;TZID=America/New_York:20201113T120000
DTEND;TZID=America/New_York:20201113T130000
DTSTAMP:20260422T073616
CREATED:20201104T004832Z
LAST-MODIFIED:20201104T004832Z
UID:65412-1605268800-1605272400@sph.cuny.edu
SUMMARY:Cover Letter Writing Workshop
DESCRIPTION:Does the thought of writing a cover letter make you want to do literally anything else? \nNot sure how the information in your cover letter is different than what’s shared on your resume? Wondering if anyone really reads these things anyway? During this virtual workshop\, get these questions and more answered and learn how to create a more compelling cover letter narrative. Brought to you by the CUNY SPH Office of Career Services. \n  \n
URL:https://sph.cuny.edu/event/cover-letter-writing-workshop/
LOCATION:Virtual (Online)
CATEGORIES:Career
ATTACH;FMTTYPE=image/jpeg:https://sph.cuny.edu/wp-content/uploads/2020/02/Typing-on-laptop.jpg
ORGANIZER;CN="Career%20Services":MAILTO:careerservices@sph.cuny.edu
END:VEVENT
END:VCALENDAR