BEGIN:VCALENDAR
VERSION:2.0
PRODID:-//CUNY Graduate School of Public Health &amp; Health Policy - ECPv4.9.9//NONSGML v1.0//EN
CALSCALE:GREGORIAN
METHOD:PUBLISH
X-ORIGINAL-URL:https://sph.cuny.edu
X-WR-CALDESC:Events for CUNY Graduate School of Public Health &amp; Health Policy
BEGIN:VTIMEZONE
TZID:America/New_York
BEGIN:DAYLIGHT
TZOFFSETFROM:-0500
TZOFFSETTO:-0400
TZNAME:EDT
DTSTART:20200308T070000
END:DAYLIGHT
BEGIN:STANDARD
TZOFFSETFROM:-0400
TZOFFSETTO:-0500
TZNAME:EST
DTSTART:20201101T060000
END:STANDARD
END:VTIMEZONE
BEGIN:VEVENT
DTSTART;TZID=America/New_York:20201022T100000
DTEND;TZID=America/New_York:20201022T170000
DTSTAMP:20260419T145853
CREATED:20201015T220022Z
LAST-MODIFIED:20201015T220253Z
UID:65102-1603360800-1603386000@sph.cuny.edu
SUMMARY:Complete Your Application Day
DESCRIPTION:\n\n\n\nCUNY Graduate School of Public Health and Health Policy invites all students who would like assistance with their application to join us at our Complete Your Application Day. \nThe Admissions Team will be available to assist all students with questions pertaining to the completion of your application. \nCome and take advantage of this opportunity to meet with us! \n  \n\n\n\n\n
URL:https://sph.cuny.edu/event/complete-your-application-day/
LOCATION:Virtual (Online)
CATEGORIES:Admissions
ATTACH;FMTTYPE=image/jpeg:https://sph.cuny.edu/wp-content/uploads/2020/07/Hands-typing.jpg
END:VEVENT
END:VCALENDAR