BEGIN:VCALENDAR
VERSION:2.0
PRODID:-//CUNY Graduate School of Public Health &amp; Health Policy - ECPv4.9.9//NONSGML v1.0//EN
CALSCALE:GREGORIAN
METHOD:PUBLISH
X-ORIGINAL-URL:https://sph.cuny.edu
X-WR-CALDESC:Events for CUNY Graduate School of Public Health &amp; Health Policy
BEGIN:VTIMEZONE
TZID:America/New_York
BEGIN:DAYLIGHT
TZOFFSETFROM:-0500
TZOFFSETTO:-0400
TZNAME:EDT
DTSTART:20230312T070000
END:DAYLIGHT
BEGIN:STANDARD
TZOFFSETFROM:-0400
TZOFFSETTO:-0500
TZNAME:EST
DTSTART:20231105T060000
END:STANDARD
END:VTIMEZONE
BEGIN:VEVENT
DTSTART;TZID=America/New_York:20230329T110000
DTEND;TZID=America/New_York:20230329T180000
DTSTAMP:20260420T084356
CREATED:20230113T195552Z
LAST-MODIFIED:20230113T195552Z
UID:124695-1680087600-1680112800@sph.cuny.edu
SUMMARY:Complete Your Application Day
DESCRIPTION:CUNY Graduate School of Public Health and Health Policy invites all students who will like assistance with their application to join us at our Complete Your Application Day. \nThe Admissions Team will be available to assist all students with questions pertaining to the completion of your application. \nCome and take advantage of this opportunity to meet with us! \n
URL:https://sph.cuny.edu/event/complete-your-application-day-6/
LOCATION:Virtual (Online)
ORGANIZER;CN="Office%20of%20Admissions":MAILTO:admissions@sph.cuny.edu
END:VEVENT
END:VCALENDAR