BEGIN:VCALENDAR
VERSION:2.0
PRODID:-//CUNY Graduate School of Public Health &amp; Health Policy - ECPv4.9.9//NONSGML v1.0//EN
CALSCALE:GREGORIAN
METHOD:PUBLISH
X-ORIGINAL-URL:https://sph.cuny.edu
X-WR-CALDESC:Events for CUNY Graduate School of Public Health &amp; Health Policy
BEGIN:VTIMEZONE
TZID:America/New_York
BEGIN:DAYLIGHT
TZOFFSETFROM:-0500
TZOFFSETTO:-0400
TZNAME:EDT
DTSTART:20220313T070000
END:DAYLIGHT
BEGIN:STANDARD
TZOFFSETFROM:-0400
TZOFFSETTO:-0500
TZNAME:EST
DTSTART:20221106T060000
END:STANDARD
END:VTIMEZONE
BEGIN:VEVENT
DTSTART;TZID=America/New_York:20220330T110000
DTEND;TZID=America/New_York:20220330T180000
DTSTAMP:20260420T024847
CREATED:20220119T172136Z
LAST-MODIFIED:20220119T172136Z
UID:112649-1648638000-1648663200@sph.cuny.edu
SUMMARY:Complete Your Application Day
DESCRIPTION:CUNY Graduate School of Public Health and Health Policy invites all students who would like assistance with their application to join us at our Complete Your Application Day. \nFirst\, schedule an appointment with the Admissions Team who will be available to assist all students with questions pertaining to the completion of your application and join us for Complete Your Application Day! \nCome and take advantage of this opportunity to meet with us! \n
URL:https://sph.cuny.edu/event/complete-your-application-day-4/
LOCATION:Virtual (Online)
CATEGORIES:Admissions
END:VEVENT
END:VCALENDAR