BEGIN:VCALENDAR
VERSION:2.0
PRODID:-//CUNY Graduate School of Public Health &amp; Health Policy - ECPv4.9.9//NONSGML v1.0//EN
CALSCALE:GREGORIAN
METHOD:PUBLISH
X-ORIGINAL-URL:https://sph.cuny.edu
X-WR-CALDESC:Events for CUNY Graduate School of Public Health &amp; Health Policy
BEGIN:VTIMEZONE
TZID:America/New_York
BEGIN:DAYLIGHT
TZOFFSETFROM:-0500
TZOFFSETTO:-0400
TZNAME:EDT
DTSTART:20240310T070000
END:DAYLIGHT
BEGIN:STANDARD
TZOFFSETFROM:-0400
TZOFFSETTO:-0500
TZNAME:EST
DTSTART:20241103T060000
END:STANDARD
END:VTIMEZONE
BEGIN:VEVENT
DTSTART;TZID=America/New_York:20241121T123000
DTEND;TZID=America/New_York:20241121T193000
DTSTAMP:20260423T181654
CREATED:20241018T204826Z
LAST-MODIFIED:20241115T194752Z
UID:150001-1732192200-1732217400@sph.cuny.edu
SUMMARY:Complete Your Application Day
DESCRIPTION:The CUNY SPH Office of Admissions invites all students who would like assistance with their application to join us at our virtual Complete Your Application Day. \nThe Admissions Team will be available to assist all students with questions pertaining to the completion of your application. \nCome and take advantage of this opportunity to meet with us! \n
URL:https://sph.cuny.edu/event/complete-your-application-day-12/
LOCATION:Virtual (Online)
CATEGORIES:Admissions,Students
ORGANIZER;CN="Office%20of%20Admissions":MAILTO:admissions@sph.cuny.edu
END:VEVENT
END:VCALENDAR