BEGIN:VCALENDAR
VERSION:2.0
PRODID:-//CUNY Graduate School of Public Health &amp; Health Policy - ECPv4.9.9//NONSGML v1.0//EN
CALSCALE:GREGORIAN
METHOD:PUBLISH
X-ORIGINAL-URL:https://sph.cuny.edu
X-WR-CALDESC:Events for CUNY Graduate School of Public Health &amp; Health Policy
BEGIN:VTIMEZONE
TZID:America/New_York
BEGIN:DAYLIGHT
TZOFFSETFROM:-0500
TZOFFSETTO:-0400
TZNAME:EDT
DTSTART:20220313T070000
END:DAYLIGHT
BEGIN:STANDARD
TZOFFSETFROM:-0400
TZOFFSETTO:-0500
TZNAME:EST
DTSTART:20221106T060000
END:STANDARD
END:VTIMEZONE
BEGIN:VEVENT
DTSTART;TZID=America/New_York:20221109T100000
DTEND;TZID=America/New_York:20221109T110000
DTSTAMP:20260421T163653
CREATED:20220920T164911Z
LAST-MODIFIED:20220920T164911Z
UID:123621-1667988000-1667991600@sph.cuny.edu
SUMMARY:Chat with International Student Office
DESCRIPTION:Chat with the International Student Office and learn more about the visa process. \n
URL:https://sph.cuny.edu/event/chat-with-international-student-office-2/
LOCATION:Virtual (Online)
CATEGORIES:Admissions
ORGANIZER;CN="International%20Students%20Office":MAILTO:iso@sph.cuny.edu
END:VEVENT
END:VCALENDAR