BEGIN:VCALENDAR
VERSION:2.0
PRODID:-//CUNY Graduate School of Public Health &amp; Health Policy - ECPv4.9.9//NONSGML v1.0//EN
CALSCALE:GREGORIAN
METHOD:PUBLISH
X-ORIGINAL-URL:https://sph.cuny.edu
X-WR-CALDESC:Events for CUNY Graduate School of Public Health &amp; Health Policy
BEGIN:VTIMEZONE
TZID:America/New_York
BEGIN:DAYLIGHT
TZOFFSETFROM:-0500
TZOFFSETTO:-0400
TZNAME:EDT
DTSTART:20210314T070000
END:DAYLIGHT
BEGIN:STANDARD
TZOFFSETFROM:-0400
TZOFFSETTO:-0500
TZNAME:EST
DTSTART:20211107T060000
END:STANDARD
END:VTIMEZONE
BEGIN:VEVENT
DTSTART;TZID=America/New_York:20211013T100000
DTEND;TZID=America/New_York:20211013T120000
DTSTAMP:20260421T163653
CREATED:20210802T141803Z
LAST-MODIFIED:20210802T141803Z
UID:79243-1634119200-1634126400@sph.cuny.edu
SUMMARY:Chat with International Student Office
DESCRIPTION:Do you wish to study public health in NYC — United States’ largest most diverse city\, where the nation’s most serious public health problems often emerge and are solved? Your search is over! Find the degree and program that is right for you and submit your application to become a student at the CUNY Graduate School of Public Health and Health Policy (CUNY SPH). Just keep in mind that it usually takes between two to three months from the time international students get admitted to the time they are able to enter the U.S.\, so submit your application early to allow yourself enough time. \nEmail iso@sph.cuny.edu with any questions once you are accepted into our programs. \n
URL:https://sph.cuny.edu/event/chat-with-international-student-office-101321/
LOCATION:Virtual (Online)
CATEGORIES:Admissions
END:VEVENT
END:VCALENDAR