BEGIN:VCALENDAR
VERSION:2.0
PRODID:-//CUNY Graduate School of Public Health &amp; Health Policy - ECPv4.9.9//NONSGML v1.0//EN
CALSCALE:GREGORIAN
METHOD:PUBLISH
X-ORIGINAL-URL:https://sph.cuny.edu
X-WR-CALDESC:Events for CUNY Graduate School of Public Health &amp; Health Policy
BEGIN:VTIMEZONE
TZID:America/New_York
BEGIN:DAYLIGHT
TZOFFSETFROM:-0500
TZOFFSETTO:-0400
TZNAME:EDT
DTSTART:20230312T070000
END:DAYLIGHT
BEGIN:STANDARD
TZOFFSETFROM:-0400
TZOFFSETTO:-0500
TZNAME:EST
DTSTART:20231105T060000
END:STANDARD
END:VTIMEZONE
BEGIN:VEVENT
DTSTART;TZID=America/New_York:20230419T180000
DTEND;TZID=America/New_York:20230419T190000
DTSTAMP:20260420T003953
CREATED:20230403T204740Z
LAST-MODIFIED:20230403T204740Z
UID:128479-1681927200-1681930800@sph.cuny.edu
SUMMARY:Chat with current students
DESCRIPTION:Chat with our student ambassadors to get an inside look into our program\, ask questions about coursework\, research opportunities\, student life\, and more! Our ambassadors are eager to share their experiences and help you make an informed decision about pursuing a degree in public health at CUNY SPH. Start a conversation with one of our student ambassadors today! \n
URL:https://sph.cuny.edu/event/chat-with-current-students-3/
LOCATION:Virtual (Online)
CATEGORIES:Admissions
END:VEVENT
END:VCALENDAR