BEGIN:VCALENDAR
VERSION:2.0
PRODID:-//CUNY Graduate School of Public Health &amp; Health Policy - ECPv4.9.9//NONSGML v1.0//EN
CALSCALE:GREGORIAN
METHOD:PUBLISH
X-ORIGINAL-URL:https://sph.cuny.edu
X-WR-CALDESC:Events for CUNY Graduate School of Public Health &amp; Health Policy
BEGIN:VTIMEZONE
TZID:America/New_York
BEGIN:DAYLIGHT
TZOFFSETFROM:-0500
TZOFFSETTO:-0400
TZNAME:EDT
DTSTART:20230312T070000
END:DAYLIGHT
BEGIN:STANDARD
TZOFFSETFROM:-0400
TZOFFSETTO:-0500
TZNAME:EST
DTSTART:20231105T060000
END:STANDARD
END:VTIMEZONE
BEGIN:VEVENT
DTSTART;TZID=America/New_York:20230323T120000
DTEND;TZID=America/New_York:20230323T130000
DTSTAMP:20260421T163832
CREATED:20221213T165240Z
LAST-MODIFIED:20221213T165240Z
UID:124385-1679572800-1679576400@sph.cuny.edu
SUMMARY:Chat with Admissions\, Advising and Bursar
DESCRIPTION:Join us and get your questions answered from three departments: Admissions\, Advising and Bursar. \nParticipants can drop in and out as desired. \n
URL:https://sph.cuny.edu/event/chat-with-admissions-advising-and-bursar-4/
LOCATION:Virtual (Online)
CATEGORIES:Admissions
END:VEVENT
END:VCALENDAR