BEGIN:VCALENDAR
VERSION:2.0
PRODID:-//CUNY Graduate School of Public Health &amp; Health Policy - ECPv4.9.9//NONSGML v1.0//EN
CALSCALE:GREGORIAN
METHOD:PUBLISH
X-ORIGINAL-URL:https://sph.cuny.edu
X-WR-CALDESC:Events for CUNY Graduate School of Public Health &amp; Health Policy
BEGIN:VTIMEZONE
TZID:America/New_York
BEGIN:DAYLIGHT
TZOFFSETFROM:-0500
TZOFFSETTO:-0400
TZNAME:EDT
DTSTART:20170312T070000
END:DAYLIGHT
BEGIN:STANDARD
TZOFFSETFROM:-0400
TZOFFSETTO:-0500
TZNAME:EST
DTSTART:20171105T060000
END:STANDARD
END:VTIMEZONE
BEGIN:VEVENT
DTSTART;TZID=America/New_York:20170619T140000
DTEND;TZID=America/New_York:20170619T170000
DTSTAMP:20260420T203220
CREATED:20190523T183400Z
LAST-MODIFIED:20191224T220146Z
UID:8477-1497880800-1497891600@sph.cuny.edu
SUMMARY:CFAR Kick-off Symposium
DESCRIPTION:Einstein-Rockefeller-CUNY Center for AIDS Research (ERC-CFAR)  Kick-off Symposium  June 19th\, 2017 2:00pm ‚Äì 5:00pm (reception to follow) Robbins Auditorium\, 1300 Morris Park Avenue Bronx\, NY 10461  ‚ÄúEnding the HIV/AIDS Pandemic: Follow the Science‚Äù Anthony Fauci\, MD Director\, National Institute of Allergy and Infectious Diseases  ‚ÄúThe HIV Vaccine Problem‚Äù Michel C. Nussenzweig\, MD\, PhD Zanvil A. Cohn and Ralph M. Steinman Professor\, Rockefeller University  ‚ÄúEnding the Epidemic: The Art and Science of Reaching Bodies‚Äù Mary T. Bassett\, MD\, MPH Commissioner\, New York City Department of Health and Mental Hygiene  RSVP  Details about the event Learn more about the CFAR“ \n
URL:https://sph.cuny.edu/event/cfar-kick-off-symposium/
CATEGORIES:Lecture
END:VEVENT
END:VCALENDAR