BEGIN:VCALENDAR
VERSION:2.0
PRODID:-//CUNY Graduate School of Public Health &amp; Health Policy - ECPv4.9.9//NONSGML v1.0//EN
CALSCALE:GREGORIAN
METHOD:PUBLISH
X-ORIGINAL-URL:https://sph.cuny.edu
X-WR-CALDESC:Events for CUNY Graduate School of Public Health &amp; Health Policy
BEGIN:VTIMEZONE
TZID:America/New_York
BEGIN:DAYLIGHT
TZOFFSETFROM:-0500
TZOFFSETTO:-0400
TZNAME:EDT
DTSTART:20250309T070000
END:DAYLIGHT
BEGIN:STANDARD
TZOFFSETFROM:-0400
TZOFFSETTO:-0500
TZNAME:EST
DTSTART:20251102T060000
END:STANDARD
END:VTIMEZONE
BEGIN:VEVENT
DTSTART;TZID=America/New_York:20250424T130000
DTEND;TZID=America/New_York:20250424T150000
DTSTAMP:20260424T075540
CREATED:20250129T173659Z
LAST-MODIFIED:20250314T190206Z
UID:151962-1745499600-1745506800@sph.cuny.edu
SUMMARY:Certification to MPH Information Session
DESCRIPTION:Explore your future in public health at CUNY SPH! \nJoin our admissions info session to learn about our Advanced Certificates\, MPH\, and MS degrees. All of our MPH degrees are offered in both hybrid and online formats\, while our MS degrees are online only\, with the exception of the MS in Environmental and Occupational Health Sciences. \nGet details on admissions\, application deadlines\, and programs. \n  \n
URL:https://sph.cuny.edu/event/certification-to-mph-information-session/
LOCATION:Virtual (Online)
CATEGORIES:Students
ORGANIZER;CN="Office%20of%20Admissions":MAILTO:admissions@sph.cuny.edu
END:VEVENT
END:VCALENDAR