BEGIN:VCALENDAR
VERSION:2.0
PRODID:-//CUNY Graduate School of Public Health &amp; Health Policy - ECPv4.9.9//NONSGML v1.0//EN
CALSCALE:GREGORIAN
METHOD:PUBLISH
X-ORIGINAL-URL:https://sph.cuny.edu
X-WR-CALDESC:Events for CUNY Graduate School of Public Health &amp; Health Policy
BEGIN:VTIMEZONE
TZID:America/New_York
BEGIN:DAYLIGHT
TZOFFSETFROM:-0500
TZOFFSETTO:-0400
TZNAME:EDT
DTSTART:20250309T070000
END:DAYLIGHT
BEGIN:STANDARD
TZOFFSETFROM:-0400
TZOFFSETTO:-0500
TZNAME:EST
DTSTART:20251102T060000
END:STANDARD
END:VTIMEZONE
BEGIN:VEVENT
DTSTART;TZID=America/New_York:20250304T180000
DTEND;TZID=America/New_York:20250304T190000
DTSTAMP:20260421T191318
CREATED:20250220T171036Z
LAST-MODIFIED:20250220T180003Z
UID:152541-1741111200-1741114800@sph.cuny.edu
SUMMARY:Career Workshop: Tools to Find Your Professional Fit
DESCRIPTION:Join the Office of Career Services for a virtual workshop on the eight Core Competencies employers look for when hiring. \nLearn how to assess your current strengths using a Career Assessment Tool and identify steps to advance your career. This session will help you build a career roadmap\, guiding you toward your next opportunity with confidence. \nStudents and recent alumni are welcome. \n  \n
URL:https://sph.cuny.edu/event/career-workshop-tools-to-find-your-professional-fit/
LOCATION:Virtual (Online)
CATEGORIES:Career
ATTACH;FMTTYPE=image/png:https://sph.cuny.edu/wp-content/uploads/2025/02/Spring-25-Tools-to-Find-Your-Professional-Fit-Workshop-2.png
ORGANIZER;CN="Career%20Services":MAILTO:careerservices@sph.cuny.edu
END:VEVENT
END:VCALENDAR