BEGIN:VCALENDAR
VERSION:2.0
PRODID:-//CUNY Graduate School of Public Health &amp; Health Policy - ECPv4.9.9//NONSGML v1.0//EN
CALSCALE:GREGORIAN
METHOD:PUBLISH
X-ORIGINAL-URL:https://sph.cuny.edu
X-WR-CALDESC:Events for CUNY Graduate School of Public Health &amp; Health Policy
BEGIN:VTIMEZONE
TZID:America/New_York
BEGIN:DAYLIGHT
TZOFFSETFROM:-0500
TZOFFSETTO:-0400
TZNAME:EDT
DTSTART:20250309T070000
END:DAYLIGHT
BEGIN:STANDARD
TZOFFSETFROM:-0400
TZOFFSETTO:-0500
TZNAME:EST
DTSTART:20251102T060000
END:STANDARD
END:VTIMEZONE
BEGIN:VEVENT
DTSTART;TZID=America/New_York:20251008T170000
DTEND;TZID=America/New_York:20251008T180000
DTSTAMP:20260421T232812
CREATED:20250915T202741Z
LAST-MODIFIED:20250915T202913Z
UID:157523-1759942800-1759946400@sph.cuny.edu
SUMMARY:Career Workshop: Career Values
DESCRIPTION:When our values are aligned with our professional and personal choices\, we are often more satisfied at work and confident in decision making. This workshop will help you clarify your professional values and how to align them with your career choices. \nFrom the Office Career Services (OCS)\, CUNY SPH students and recent alumni are welcome to join this virtual workshop. \n  \n
URL:https://sph.cuny.edu/event/career-workshop-career-values/
LOCATION:Virtual (Online)
CATEGORIES:Career
ATTACH;FMTTYPE=image/png:https://sph.cuny.edu/wp-content/uploads/2025/09/Career-Workshop-Career-Values-.png
ORGANIZER;CN="Career%20Services":MAILTO:careerservices@sph.cuny.edu
END:VEVENT
END:VCALENDAR