BEGIN:VCALENDAR
VERSION:2.0
PRODID:-//CUNY Graduate School of Public Health &amp; Health Policy - ECPv4.9.9//NONSGML v1.0//EN
CALSCALE:GREGORIAN
METHOD:PUBLISH
X-ORIGINAL-URL:https://sph.cuny.edu
X-WR-CALDESC:Events for CUNY Graduate School of Public Health &amp; Health Policy
BEGIN:VTIMEZONE
TZID:America/New_York
BEGIN:DAYLIGHT
TZOFFSETFROM:-0500
TZOFFSETTO:-0400
TZNAME:EDT
DTSTART:20240310T070000
END:DAYLIGHT
BEGIN:STANDARD
TZOFFSETFROM:-0400
TZOFFSETTO:-0500
TZNAME:EST
DTSTART:20241103T060000
END:STANDARD
END:VTIMEZONE
BEGIN:VEVENT
DTSTART;TZID=America/New_York:20240925T170000
DTEND;TZID=America/New_York:20240925T180000
DTSTAMP:20260423T061815
CREATED:20240813T135810Z
LAST-MODIFIED:20240826T183347Z
UID:149425-1727283600-1727287200@sph.cuny.edu
SUMMARY:Career Values Workshop
DESCRIPTION:When our values are aligned with our work and life choices\, we are often more satisfied at work and confident in decision making. This workshop will help you clarify your professional values and how to align them with your career choices. This virtual workshop is hosted by the Office of Career Services. Current students and recent alumni are welcome. \n  \n
URL:https://sph.cuny.edu/event/career-values-workshop/
LOCATION:Virtual (Online)
CATEGORIES:Alumni,Career,Students
ATTACH;FMTTYPE=image/png:https://sph.cuny.edu/wp-content/uploads/2024/08/OCS-Workshop-Fall24-Career-Values.png
ORGANIZER;CN="Career%20Services":MAILTO:careerservices@sph.cuny.edu
END:VEVENT
END:VCALENDAR