BEGIN:VCALENDAR
VERSION:2.0
PRODID:-//CUNY Graduate School of Public Health &amp; Health Policy - ECPv4.9.9//NONSGML v1.0//EN
CALSCALE:GREGORIAN
METHOD:PUBLISH
X-ORIGINAL-URL:https://sph.cuny.edu
X-WR-CALDESC:Events for CUNY Graduate School of Public Health &amp; Health Policy
BEGIN:VTIMEZONE
TZID:America/New_York
BEGIN:DAYLIGHT
TZOFFSETFROM:-0500
TZOFFSETTO:-0400
TZNAME:EDT
DTSTART:20230312T070000
END:DAYLIGHT
BEGIN:STANDARD
TZOFFSETFROM:-0400
TZOFFSETTO:-0500
TZNAME:EST
DTSTART:20231105T060000
END:STANDARD
END:VTIMEZONE
BEGIN:VEVENT
DTSTART;TZID=America/New_York:20230911T170000
DTEND;TZID=America/New_York:20230911T180000
DTSTAMP:20260421T192206
CREATED:20230831T192337Z
LAST-MODIFIED:20230831T192337Z
UID:131338-1694451600-1694455200@sph.cuny.edu
SUMMARY:Career Skills Workshop: Cover Letter and Interviewing
DESCRIPTION:Tie things together and gain an understanding in the role a cover letter plays in your application submission. Telling organized stories using the STAR story framework can support the content you include in your Cover Letter\, as well as begin preparing for the Interview. Prepare early\, and don’t wait for an invitation before you start getting ready to win that interview and the offer! From the Office Career Services\, this virtual workshop is for Students and recent alumni.  \n
URL:https://sph.cuny.edu/event/career-skills-workshop-cover-letter-and-interviewing/
LOCATION:Virtual (Online)
ATTACH;FMTTYPE=image/png:https://sph.cuny.edu/wp-content/uploads/2023/08/2023-Fall-OCS-Workshop-Cov-LtrInterviews.png
ORGANIZER;CN="Career%20Services":MAILTO:careerservices@sph.cuny.edu
END:VEVENT
END:VCALENDAR