BEGIN:VCALENDAR
VERSION:2.0
PRODID:-//CUNY Graduate School of Public Health &amp; Health Policy - ECPv4.9.9//NONSGML v1.0//EN
CALSCALE:GREGORIAN
METHOD:PUBLISH
X-ORIGINAL-URL:https://sph.cuny.edu
X-WR-CALDESC:Events for CUNY Graduate School of Public Health &amp; Health Policy
BEGIN:VTIMEZONE
TZID:America/New_York
BEGIN:DAYLIGHT
TZOFFSETFROM:-0500
TZOFFSETTO:-0400
TZNAME:EDT
DTSTART:20230312T070000
END:DAYLIGHT
BEGIN:STANDARD
TZOFFSETFROM:-0400
TZOFFSETTO:-0500
TZNAME:EST
DTSTART:20231105T060000
END:STANDARD
END:VTIMEZONE
BEGIN:VEVENT
DTSTART;TZID=America/New_York:20231019T190000
DTEND;TZID=America/New_York:20231019T200000
DTSTAMP:20260421T165407
CREATED:20230913T081424Z
LAST-MODIFIED:20230913T081424Z
UID:131554-1697742000-1697745600@sph.cuny.edu
SUMMARY:Career Skills Masterclass: Managing Up While Managing Down with Anupa Fabian
DESCRIPTION:Join the Office of Career Services and the Career Skills Academy for a virtual masterclass on management skills\, featuring Anupa Fabian. Anupa is the Chief Evaluation and Learning Officer at the Mother Cabrini Health Foundation. She leads the research\, evaluation\, and learning functions of the organization to help achieve its mission to improve the health and well-being of vulnerable New Yorkers. Students and alumni are welcome. \n
URL:https://sph.cuny.edu/event/career-skills-masterclass-managing-up-while-managing-down-with-anupa-fabian/
LOCATION:Virtual (Online)
CATEGORIES:Career
ATTACH;FMTTYPE=image/png:https://sph.cuny.edu/wp-content/uploads/2023/09/Managing-Up-While-Managing-Down.png
ORGANIZER;CN="Career%20Services":MAILTO:careerservices@sph.cuny.edu
END:VEVENT
END:VCALENDAR