BEGIN:VCALENDAR
VERSION:2.0
PRODID:-//CUNY Graduate School of Public Health &amp; Health Policy - ECPv4.9.9//NONSGML v1.0//EN
CALSCALE:GREGORIAN
METHOD:PUBLISH
X-ORIGINAL-URL:https://sph.cuny.edu
X-WR-CALDESC:Events for CUNY Graduate School of Public Health &amp; Health Policy
BEGIN:VTIMEZONE
TZID:America/New_York
BEGIN:DAYLIGHT
TZOFFSETFROM:-0500
TZOFFSETTO:-0400
TZNAME:EDT
DTSTART:20250309T070000
END:DAYLIGHT
BEGIN:STANDARD
TZOFFSETFROM:-0400
TZOFFSETTO:-0500
TZNAME:EST
DTSTART:20251102T060000
END:STANDARD
END:VTIMEZONE
BEGIN:VEVENT
DTSTART;TZID=America/New_York:20250327T170000
DTEND;TZID=America/New_York:20250327T180000
DTSTAMP:20260421T195743
CREATED:20250220T142116Z
LAST-MODIFIED:20250220T142116Z
UID:152506-1743094800-1743098400@sph.cuny.edu
SUMMARY:Career Skills Masterclass: Assertiveness in the Workplace with Dr. Rachel E. Sobel
DESCRIPTION:Join the Office of Career Services and the Career Skills Academy for a virtual masterclass on Assertiveness in the Workplace\, featuring Dr. Rachel E. Sobel\, DrPH\, FISPE. \nDr. Sobel has over 25 years of experience in epidemiology and risk management. She is currently Vice President\, Head of the Pharmacoepidemiology and Risk Management Center of Excellence within Global Patient Safety at Regeneron Pharmaceuticals. \nStudents and alumni are welcome. \n
URL:https://sph.cuny.edu/event/career-skills-masterclass-assertiveness-in-the-workplace-with-dr-rachel-e-sobel/
LOCATION:Virtual (Online)
CATEGORIES:Career
ATTACH;FMTTYPE=image/png:https://sph.cuny.edu/wp-content/uploads/2025/02/32725-Assertiveness-in-the-Workplace-.png
ORGANIZER;CN="Career%20Services":MAILTO:careerservices@sph.cuny.edu
END:VEVENT
END:VCALENDAR