BEGIN:VCALENDAR
VERSION:2.0
PRODID:-//CUNY Graduate School of Public Health &amp; Health Policy - ECPv4.9.9//NONSGML v1.0//EN
CALSCALE:GREGORIAN
METHOD:PUBLISH
X-ORIGINAL-URL:https://sph.cuny.edu
X-WR-CALDESC:Events for CUNY Graduate School of Public Health &amp; Health Policy
BEGIN:VTIMEZONE
TZID:America/New_York
BEGIN:DAYLIGHT
TZOFFSETFROM:-0500
TZOFFSETTO:-0400
TZNAME:EDT
DTSTART:20210314T070000
END:DAYLIGHT
BEGIN:STANDARD
TZOFFSETFROM:-0400
TZOFFSETTO:-0500
TZNAME:EST
DTSTART:20211107T060000
END:STANDARD
END:VTIMEZONE
BEGIN:VEVENT
DTSTART;TZID=America/New_York:20210820T120000
DTEND;TZID=America/New_York:20210820T130000
DTSTAMP:20260421T204736
CREATED:20210621T184922Z
LAST-MODIFIED:20210621T190222Z
UID:79016-1629460800-1629464400@sph.cuny.edu
SUMMARY:Career Skills Academy Info Session
DESCRIPTION:\nThe Career Skills Academy is for students who want to become more competitive and succeed professionally. This year-long program will focus on helping you gain and improve upon professional skills using a variety of exciting programs. Learn from top professionals in the industry in our Public Health Master Classes\, which will focus on topics such as effective networking and conflict management. You’ll have the opportunity to attend twice-monthly workshops on developing soft skills such as salary negotiation\, understanding your career values\, and combating imposter syndrome. You can use your time in the program as an opportunity to develop a professional network. And finally\, students who successfully complete the program will receive a $125 stipend each semester! \nThe Career Skills Academy will be hosting a virtual information session to provide students with the opportunity to learn more about the program and ask any questions. \nRSVP to the information session to receive the Zoom link.\n \nPlease email Dr. Candace Lamb at candace.lamb@sph.cuny.edu if you have questions. \n\n
URL:https://sph.cuny.edu/event/career-skills-academy-info-session-082021/
LOCATION:Virtual (Online)
CATEGORIES:Career
ATTACH;FMTTYPE=image/jpeg:https://sph.cuny.edu/wp-content/uploads/2020/12/smiling-students-in-conference-room.jpg
ORGANIZER;CN="Career%20Services":MAILTO:careerservices@sph.cuny.edu
END:VEVENT
END:VCALENDAR