BEGIN:VCALENDAR
VERSION:2.0
PRODID:-//CUNY Graduate School of Public Health &amp; Health Policy - ECPv4.9.9//NONSGML v1.0//EN
CALSCALE:GREGORIAN
METHOD:PUBLISH
X-ORIGINAL-URL:https://sph.cuny.edu
X-WR-CALDESC:Events for CUNY Graduate School of Public Health &amp; Health Policy
BEGIN:VTIMEZONE
TZID:America/New_York
BEGIN:DAYLIGHT
TZOFFSETFROM:-0500
TZOFFSETTO:-0400
TZNAME:EDT
DTSTART:20250309T070000
END:DAYLIGHT
BEGIN:STANDARD
TZOFFSETFROM:-0400
TZOFFSETTO:-0500
TZNAME:EST
DTSTART:20251102T060000
END:STANDARD
END:VTIMEZONE
BEGIN:VEVENT
DTSTART;TZID=America/New_York:20251201T140000
DTEND;TZID=America/New_York:20251201T150000
DTSTAMP:20260421T082452
CREATED:20251104T213345Z
LAST-MODIFIED:20251104T213345Z
UID:158353-1764597600-1764601200@sph.cuny.edu
SUMMARY:Career Prep Day: Ask a Recruiter with Mathematica
DESCRIPTION:Join the Office of Career Services for a virtual Ask a Recruiter Day featuring hiring professionals from Mathematica\, a policy research organization dedicated to using data and evidence to advance equity and improve public well-being. \nThis Career Prep Day event is designed to give you an inside look at the recruitment process—from application tips and interview insights to understanding workplace culture and career paths in public health research. \nWhether you’re preparing to apply for internships\, fieldwork\, or full-time roles\, this session offers personalized guidance and the opportunity to connect directly with recruiters. \nOpen to all CUNY SPH students and alumni. \n  \n
URL:https://sph.cuny.edu/event/career-prep-day-ask-a-recruiter-with-mathematica/
LOCATION:Virtual (Online)
CATEGORIES:Alumni,Career,Students
ATTACH;FMTTYPE=image/png:https://sph.cuny.edu/wp-content/uploads/2025/11/Fall-25-Career-Prep-Days.png
ORGANIZER;CN="Career%20Services":MAILTO:careerservices@sph.cuny.edu
END:VEVENT
END:VCALENDAR