BEGIN:VCALENDAR
VERSION:2.0
PRODID:-//CUNY Graduate School of Public Health &amp; Health Policy - ECPv4.9.9//NONSGML v1.0//EN
CALSCALE:GREGORIAN
METHOD:PUBLISH
X-ORIGINAL-URL:https://sph.cuny.edu
X-WR-CALDESC:Events for CUNY Graduate School of Public Health &amp; Health Policy
BEGIN:VTIMEZONE
TZID:America/New_York
BEGIN:DAYLIGHT
TZOFFSETFROM:-0500
TZOFFSETTO:-0400
TZNAME:EDT
DTSTART:20230312T070000
END:DAYLIGHT
BEGIN:STANDARD
TZOFFSETFROM:-0400
TZOFFSETTO:-0500
TZNAME:EST
DTSTART:20231105T060000
END:STANDARD
END:VTIMEZONE
BEGIN:VEVENT
DTSTART;TZID=America/New_York:20230424T120000
DTEND;TZID=America/New_York:20230424T130000
DTSTAMP:20260421T011018
CREATED:20230321T140457Z
LAST-MODIFIED:20230321T140457Z
UID:127661-1682337600-1682341200@sph.cuny.edu
SUMMARY:Career Corner: Conflict Resolution
DESCRIPTION:The CUNY SPH Office of Career Services is pleased to bring students Career Corner – a monthly group skill-share and career advising event. Each Career Corner session is shaped by a theme and guided by a Career Advisor. At Career Corner\, you can share questions and listen\, learn\, and practice career skills with your peers. Sessions are shaped by the number and interests of participants. We will generally open with a topic introduction\, followed by Q&A\, time to workshop skills\, and a debrief. This event is for CUNY SPH students only. Register today! \n
URL:https://sph.cuny.edu/event/career-corner-conflict-resolution/
LOCATION:Virtual (Online)
CATEGORIES:Career,Students
ATTACH;FMTTYPE=image/png:https://sph.cuny.edu/wp-content/uploads/2023/03/Career-Corner-Apr23.png
ORGANIZER;CN="Career%20Services":MAILTO:careerservices@sph.cuny.edu
END:VEVENT
END:VCALENDAR