BEGIN:VCALENDAR
VERSION:2.0
PRODID:-//CUNY Graduate School of Public Health &amp; Health Policy - ECPv4.9.9//NONSGML v1.0//EN
CALSCALE:GREGORIAN
METHOD:PUBLISH
X-ORIGINAL-URL:https://sph.cuny.edu
X-WR-CALDESC:Events for CUNY Graduate School of Public Health &amp; Health Policy
BEGIN:VTIMEZONE
TZID:America/New_York
BEGIN:DAYLIGHT
TZOFFSETFROM:-0500
TZOFFSETTO:-0400
TZNAME:EDT
DTSTART:20250309T070000
END:DAYLIGHT
BEGIN:STANDARD
TZOFFSETFROM:-0400
TZOFFSETTO:-0500
TZNAME:EST
DTSTART:20251102T060000
END:STANDARD
END:VTIMEZONE
BEGIN:VEVENT
DTSTART;TZID=America/New_York:20251024T120000
DTEND;TZID=America/New_York:20251024T130000
DTSTAMP:20260422T161556
CREATED:20251021T191644Z
LAST-MODIFIED:20251021T191644Z
UID:158022-1761307200-1761310800@sph.cuny.edu
SUMMARY:Career Coaching Drop-In Hour
DESCRIPTION:Access career support during weekly virtual Drop-In Career Coaching Hours. No appointment needed—just stop by to get your questions answered\, polish your resume\, prep for an interview\, or talk through your career goals with our coaching team. \nLooking forward to seeing you soon! \nFor current students and recent SPH alumni within 1 year of graduation. \n  \n
URL:https://sph.cuny.edu/event/career-coaching-drop-in-hour/
LOCATION:Virtual (Online)
CATEGORIES:Alumni,Career,Students
ATTACH;FMTTYPE=image/png:https://sph.cuny.edu/wp-content/uploads/2025/10/Career-Coaching-Drop-In-Hour-Flyer.png
ORGANIZER;CN="Career%20Services":MAILTO:careerservices@sph.cuny.edu
END:VEVENT
END:VCALENDAR