BEGIN:VCALENDAR
VERSION:2.0
PRODID:-//CUNY Graduate School of Public Health &amp; Health Policy - ECPv4.9.9//NONSGML v1.0//EN
CALSCALE:GREGORIAN
METHOD:PUBLISH
X-ORIGINAL-URL:https://sph.cuny.edu
X-WR-CALDESC:Events for CUNY Graduate School of Public Health &amp; Health Policy
BEGIN:VTIMEZONE
TZID:America/New_York
BEGIN:DAYLIGHT
TZOFFSETFROM:-0500
TZOFFSETTO:-0400
TZNAME:EDT
DTSTART:20240310T070000
END:DAYLIGHT
BEGIN:STANDARD
TZOFFSETFROM:-0400
TZOFFSETTO:-0500
TZNAME:EST
DTSTART:20241103T060000
END:STANDARD
END:VTIMEZONE
BEGIN:VEVENT
DTSTART;TZID=America/New_York:20240215T170000
DTEND;TZID=America/New_York:20240215T180000
DTSTAMP:20260423T235923
CREATED:20240124T181138Z
LAST-MODIFIED:20240124T181138Z
UID:134220-1708016400-1708020000@sph.cuny.edu
SUMMARY:Bringing Your Authentic Self to Work
DESCRIPTION:Finding and making meaningful connections at work is integral to career success and growth; and “being yourself” is the best way to form meaningful relationships. However\, that can sometimes be a nuanced line. From the Office of Career Services\, this virtual workshop will share tips on ways to present yourself in professional settings. Join us for practical advice for sharing your “authentic” self effectively in your workplace. Students and alumni are welcome. \n
URL:https://sph.cuny.edu/event/bringing-your-authentic-self-to-work/
LOCATION:Virtual (Online)
CATEGORIES:Career
ATTACH;FMTTYPE=image/png:https://sph.cuny.edu/wp-content/uploads/2024/01/2024Spr-OCS-Workshop-Authentic-Self.png
ORGANIZER;CN="Career%20Services":MAILTO:careerservices@sph.cuny.edu
END:VEVENT
END:VCALENDAR