BEGIN:VCALENDAR
VERSION:2.0
PRODID:-//CUNY Graduate School of Public Health &amp; Health Policy - ECPv4.9.9//NONSGML v1.0//EN
CALSCALE:GREGORIAN
METHOD:PUBLISH
X-ORIGINAL-URL:https://sph.cuny.edu
X-WR-CALDESC:Events for CUNY Graduate School of Public Health &amp; Health Policy
BEGIN:VTIMEZONE
TZID:America/New_York
BEGIN:DAYLIGHT
TZOFFSETFROM:-0500
TZOFFSETTO:-0400
TZNAME:EDT
DTSTART:20220313T070000
END:DAYLIGHT
BEGIN:STANDARD
TZOFFSETFROM:-0400
TZOFFSETTO:-0500
TZNAME:EST
DTSTART:20221106T060000
END:STANDARD
END:VTIMEZONE
BEGIN:VEVENT
DTSTART;TZID=America/New_York:20221117T120000
DTEND;TZID=America/New_York:20221117T133000
DTSTAMP:20260420T193416
CREATED:20221107T211701Z
LAST-MODIFIED:20221107T211701Z
UID:124036-1668686400-1668691800@sph.cuny.edu
SUMMARY:Antiracist Teaching Collab Special Workshop: Implementing Trauma-Informed Teaching
DESCRIPTION:Drs. Emma Tsui and Spring Cooper will present with some of the student team that has been working on the Public Health Education Now (PHEN) Oral History Project. This project asks students\, faculty and staff at CUNY SPH how our lived experiences since 2020 have shaped our vision of what we want public education to be. We’ll discuss the oral history interviews that the team conducted\, focusing on experiences of not only the COVID-19 pandemic\, but also the increased visibility of racism and other oppressions\, and movements for racial justice that are reverberating both in and out of the classroom. We have several activities planned to personalize the data and think together about ways forward\, both in the classroom and school and in teaching public health more broadly. Come participate in this lively interactive session on zoom (https://zoom.us/my/drspringc)\, Thursday Nov 17\, 12-130pm. Feel free to bring your lunch! \n
URL:https://sph.cuny.edu/event/antiracist-teaching-collab-special-workshop-implementing-trauma-informed-teaching/
LOCATION:Virtual (Online)
CATEGORIES:Students
END:VEVENT
END:VCALENDAR