BEGIN:VCALENDAR
VERSION:2.0
PRODID:-//CUNY Graduate School of Public Health &amp; Health Policy - ECPv4.9.9//NONSGML v1.0//EN
CALSCALE:GREGORIAN
METHOD:PUBLISH
X-ORIGINAL-URL:https://sph.cuny.edu
X-WR-CALDESC:Events for CUNY Graduate School of Public Health &amp; Health Policy
BEGIN:VTIMEZONE
TZID:America/New_York
BEGIN:DAYLIGHT
TZOFFSETFROM:-0500
TZOFFSETTO:-0400
TZNAME:EDT
DTSTART:20170312T070000
END:DAYLIGHT
BEGIN:STANDARD
TZOFFSETFROM:-0400
TZOFFSETTO:-0500
TZNAME:EST
DTSTART:20171105T060000
END:STANDARD
END:VTIMEZONE
BEGIN:VEVENT
DTSTART;TZID=America/New_York:20171026T180000
DTEND;TZID=America/New_York:20171026T200000
DTSTAMP:20260420T051213
CREATED:20190523T183342Z
LAST-MODIFIED:20190523T183342Z
UID:8455-1509040800-1509048000@sph.cuny.edu
SUMMARY:Admissions Information Session
DESCRIPTION:Please RSVP here: https://docs.google.com/forms/d/1VPCJTWEk_2WBQz9tgMTLKAq37EWHCXv5qFzUyAmVD7I/edit?usp=sharing \n
URL:https://sph.cuny.edu/event/admissions-information-session-2/
CATEGORIES:Lecture
END:VEVENT
END:VCALENDAR