BEGIN:VCALENDAR
VERSION:2.0
PRODID:-//CUNY Graduate School of Public Health &amp; Health Policy - ECPv4.9.9//NONSGML v1.0//EN
CALSCALE:GREGORIAN
METHOD:PUBLISH
X-ORIGINAL-URL:https://sph.cuny.edu
X-WR-CALDESC:Events for CUNY Graduate School of Public Health &amp; Health Policy
BEGIN:VTIMEZONE
TZID:America/New_York
BEGIN:DAYLIGHT
TZOFFSETFROM:-0500
TZOFFSETTO:-0400
TZNAME:EDT
DTSTART:20220313T070000
END:DAYLIGHT
BEGIN:STANDARD
TZOFFSETFROM:-0400
TZOFFSETTO:-0500
TZNAME:EST
DTSTART:20221106T060000
END:STANDARD
END:VTIMEZONE
BEGIN:VEVENT
DTSTART;TZID=America/New_York:20220427T120000
DTEND;TZID=America/New_York:20220427T130000
DTSTAMP:20260421T181414
CREATED:20220413T150028Z
LAST-MODIFIED:20220413T133556Z
UID:114472-1651060800-1651064400@sph.cuny.edu
SUMMARY:A Guide to Surviving and Thriving at CUNY
DESCRIPTION:Written by students for students\, the online Guide to Surviving and Thriving at CUNY seeks to help college students get help for problems they encounter related to education\, mental and physical health\, health care access\, food security\, and other essential needs so they can focus on academic achievement. Join Healthy CUNY and CUNY SPH student advocates as they present the Guide and discuss key CUNY\, community\, and public resources. Learn to use the Guide to advocate for your own health and wellbeing\, and to help your family\, friends and peers. \nPresenters: Fanni Sampson\, SPH student and Healthy CUNY Advocate Team Leader and Patti Lamberson\, Deputy Director of Healthy CUNY \n· Please complete the 2 question pre-event survey here. \n· RSVP here. \n
URL:https://sph.cuny.edu/event/a-guide-to-surviving-and-thriving-at-cuny/
LOCATION:Virtual (Online)
CATEGORIES:Wellness
ATTACH;FMTTYPE=image/png:https://sph.cuny.edu/wp-content/uploads/2022/04/survivingandthriving.png
END:VEVENT
END:VCALENDAR